BEGIN:VCALENDAR
VERSION:2.0
PRODID:-//Plone.org//NONSGML plone.app.event//EN
X-WR-TIMEZONE:US/Central
BEGIN:VEVENT
SUMMARY:Friends
DTSTART;TZID=US/Central:20250911T133000
DTEND;TZID=US/Central:20250911T143000
DTSTAMP:20260424T180530Z
UID:dcfd2e56bf764a82b29c605df3a79f12@saas_stack_varnish:6080
RRULE:FREQ=MONTHLY;UNTIL=20250912T000000;BYDAY=+2TH
CONTACT:Jeana Houf\, Librarian\, (573)684-6151\, wellsvillelibrary@gmail.c
 om
CREATED:20250912T160741Z
LAST-MODIFIED:20250912T162132Z
LOCATION:Wellsville Public Library
URL:https://www.wellsvillelibrary.lib.mo.us/calendar-news/events/friends
END:VEVENT
BEGIN:VTIMEZONE
TZID:US/Central
X-LIC-LOCATION:US/Central
BEGIN:DAYLIGHT
DTSTART:20250309T030000
TZNAME:CDT
TZOFFSETFROM:-0600
TZOFFSETTO:-0500
END:DAYLIGHT
END:VTIMEZONE
END:VCALENDAR
